BEGIN:VCALENDAR
PRODID:-//HKUST Drupal Platform//EN
VERSION:2.0
BEGIN:VTIMEZONE
TZID:Asia/Hong_Kong
BEGIN:STANDARD
DTSTART:20071104T020000
TZOFFSETFROM:+0700
TZOFFSETTO:+0800
TZNAME:HKT
END:STANDARD
END:VTIMEZONE
BEGIN:VEVENT
DTSTAMP;TZID=Asia/Hong_Kong:20260420T193936
DTSTART;TZID=Asia/Hong_Kong:20230426T150000
DTEND;TZID=Asia/Hong_Kong:20230426T163000
LOCATION:Room 3598 (near Lifts 27/28), 3/F	, Academic Building, HKUST
SUMMARY:Department of Chemistry Seminar - NHC Catalysis, Medicines, and Agrochemicals
UID:37292
END:VEVENT
END:VCALENDAR