BEGIN:VCALENDAR
PRODID:-//HKUST Drupal Platform//EN
VERSION:2.0
BEGIN:VTIMEZONE
TZID:Asia/Hong_Kong
BEGIN:STANDARD
DTSTART:20071104T020000
TZOFFSETFROM:+0700
TZOFFSETTO:+0800
TZNAME:HKT
END:STANDARD
END:VTIMEZONE
BEGIN:VEVENT
DTSTAMP;TZID=Asia/Hong_Kong:20260421T005417
DTSTART;TZID=Asia/Hong_Kong:20230421T123000
DTEND;TZID=Asia/Hong_Kong:20230421T140000
LOCATION:CYT G001 (behind Subway)
SUMMARY:Earth Day 2023   - Vermicomposting Workshop
UID:37111
END:VEVENT
END:VCALENDAR