BEGIN:VCALENDAR
PRODID:-//HKUST Drupal Platform//EN
VERSION:2.0
BEGIN:VTIMEZONE
TZID:Asia/Hong_Kong
BEGIN:STANDARD
DTSTART:20071104T020000
TZOFFSETFROM:+0700
TZOFFSETTO:+0800
TZNAME:HKT
END:STANDARD
END:VTIMEZONE
BEGIN:VEVENT
DTSTAMP;TZID=Asia/Hong_Kong:20260420T221222
DTSTART;TZID=Asia/Hong_Kong:20230328T120000
DTEND;TZID=Asia/Hong_Kong:20230328T160000
LOCATION:SSC Hub
SUMMARY:Jockey Club Sustainable Campus Consumer Programme Clothing Swap Event  - Clothing Swap Pop-up Store (UST station)
UID:37065
END:VEVENT
END:VCALENDAR