BEGIN:VCALENDAR
PRODID:-//HKUST Drupal Platform//EN
VERSION:2.0
BEGIN:VTIMEZONE
TZID:Asia/Hong_Kong
BEGIN:STANDARD
DTSTART:20071104T020000
TZOFFSETFROM:+0700
TZOFFSETTO:+0800
TZNAME:HKT
END:STANDARD
END:VTIMEZONE
BEGIN:VEVENT
DTSTAMP;TZID=Asia/Hong_Kong:20260420T132904
DTSTART;TZID=Asia/Hong_Kong:20230316T163000
DTEND;TZID=Asia/Hong_Kong:20230316T173000
LOCATION:Room 1103 (near LTA)
SUMMARY:Changemaker GUTS - Start saving quit wasting – turn surplus food into hot meals
UID:36862
END:VEVENT
END:VCALENDAR