BEGIN:VCALENDAR
PRODID:-//HKUST Drupal Platform//EN
VERSION:2.0
BEGIN:VTIMEZONE
TZID:Asia/Hong_Kong
BEGIN:STANDARD
DTSTART:20071104T020000
TZOFFSETFROM:+0700
TZOFFSETTO:+0800
TZNAME:HKT
END:STANDARD
END:VTIMEZONE
BEGIN:VEVENT
DTSTAMP;TZID=Asia/Hong_Kong:20260420T190149
DTSTART;TZID=Asia/Hong_Kong:20230317T140000
DTEND;TZID=Asia/Hong_Kong:20230317T160000
LOCATION:Lecture Theatre A
SUMMARY:Welcome to SSC Pitch Day 
UID:36850
END:VEVENT
END:VCALENDAR