BEGIN:VCALENDAR
PRODID:-//HKUST Drupal Platform//EN
VERSION:2.0
BEGIN:VTIMEZONE
TZID:Asia/Hong_Kong
BEGIN:STANDARD
DTSTART:20071104T020000
TZOFFSETFROM:+0700
TZOFFSETTO:+0800
TZNAME:HKT
END:STANDARD
END:VTIMEZONE
BEGIN:VEVENT
DTSTAMP;TZID=Asia/Hong_Kong:20260420T222028
DTSTART;TZID=Asia/Hong_Kong:20230308T183000
DTEND;TZID=Asia/Hong_Kong:20230308T200000
LOCATION:Lecture Theatre L
SUMMARY:Hard Sell: Alternative Proteins & The Fight for the Future of Food 
UID:36738
END:VEVENT
END:VCALENDAR