BEGIN:VCALENDAR
PRODID:-//HKUST Drupal Platform//EN
VERSION:2.0
BEGIN:VTIMEZONE
TZID:Asia/Hong_Kong
BEGIN:STANDARD
DTSTART:20071104T020000
TZOFFSETFROM:+0700
TZOFFSETTO:+0800
TZNAME:HKT
END:STANDARD
END:VTIMEZONE
BEGIN:VEVENT
DTSTAMP;TZID=Asia/Hong_Kong:20260420T110912
DTSTART;TZID=Asia/Hong_Kong:20230217T130000
DTEND;TZID=Asia/Hong_Kong:20230217T140000
LOCATION:LT-H / Zoom
SUMMARY:GREAT SMART CITIES FRIDAY SEMINAR SERIES  - Smart Cities and Theme Park Design
UID:36543
END:VEVENT
END:VCALENDAR