BEGIN:VCALENDAR
PRODID:-//HKUST Drupal Platform//EN
VERSION:2.0
BEGIN:VTIMEZONE
TZID:Asia/Hong_Kong
BEGIN:STANDARD
DTSTART:20071104T020000
TZOFFSETFROM:+0700
TZOFFSETTO:+0800
TZNAME:HKT
END:STANDARD
END:VTIMEZONE
BEGIN:VEVENT
DTSTAMP;TZID=Asia/Hong_Kong:20260420T152213
DTSTART;TZID=Asia/Hong_Kong:20230330T190000
DTEND;TZID=Asia/Hong_Kong:20230330T210000
LOCATION:Main Hall, Shaw Auditorium
SUMMARY:HKUST Arts Festival 2023  - Talk and Demonstration: Synergy Between Performers and Musicians in Cantonese Opera by Mr. Wong Sing Chuen
UID:36309
END:VEVENT
END:VCALENDAR