BEGIN:VCALENDAR
PRODID:-//HKUST Drupal Platform//EN
VERSION:2.0
BEGIN:VTIMEZONE
TZID:Asia/Hong_Kong
BEGIN:STANDARD
DTSTART:20071104T020000
TZOFFSETFROM:+0700
TZOFFSETTO:+0800
TZNAME:HKT
END:STANDARD
END:VTIMEZONE
BEGIN:VEVENT
DTSTAMP;TZID=Asia/Hong_Kong:20260420T192631
DTSTART;TZID=Asia/Hong_Kong:20230112T130000
DTEND;TZID=Asia/Hong_Kong:20230112T140000
LOCATION:Room 5619 (Lift 31-32)
SUMMARY:HKUST Free Skills Sharing Workshop   - Year of the Rabbit: Fai Chun Workshop 福兔迎祥 ‧ 揮春工作坊
UID:36283
END:VEVENT
END:VCALENDAR