BEGIN:VCALENDAR
PRODID:-//HKUST Drupal Platform//EN
VERSION:2.0
BEGIN:VTIMEZONE
TZID:Asia/Hong_Kong
BEGIN:STANDARD
DTSTART:20071104T020000
TZOFFSETFROM:+0700
TZOFFSETTO:+0800
TZNAME:HKT
END:STANDARD
END:VTIMEZONE
BEGIN:VEVENT
DTSTAMP;TZID=Asia/Hong_Kong:20260420T190209
DTSTART;TZID=Asia/Hong_Kong:20221121T130000
DTEND;TZID=Asia/Hong_Kong:20221121T140000
LOCATION:LG5 Multi-function Room
SUMMARY:HKUST Free Skills Sharing Workshop Series  - Meditation and Stretching Workshop
UID:35947
END:VEVENT
END:VCALENDAR