BEGIN:VCALENDAR
PRODID:-//HKUST Drupal Platform//EN
VERSION:2.0
BEGIN:VTIMEZONE
TZID:Asia/Hong_Kong
BEGIN:STANDARD
DTSTART:20071104T020000
TZOFFSETFROM:+0700
TZOFFSETTO:+0800
TZNAME:HKT
END:STANDARD
END:VTIMEZONE
BEGIN:VEVENT
DTSTAMP;TZID=Asia/Hong_Kong:20260420T152250
DTSTART;TZID=Asia/Hong_Kong:20221201T000000
DTEND;TZID=Asia/Hong_Kong:20221202T235900
LOCATION:香港会议展览中心
SUMMARY:“亚洲知识产权营商论坛” Business of IP Asia Forum – 2022年12月1至2日
UID:35928
END:VEVENT
END:VCALENDAR