BEGIN:VCALENDAR
PRODID:-//HKUST Drupal Platform//EN
VERSION:2.0
BEGIN:VTIMEZONE
TZID:Asia/Hong_Kong
BEGIN:STANDARD
DTSTART:20071104T020000
TZOFFSETFROM:+0700
TZOFFSETTO:+0800
TZNAME:HKT
END:STANDARD
END:VTIMEZONE
BEGIN:VEVENT
DTSTAMP;TZID=Asia/Hong_Kong:20260425T220743
DTSTART;TZID=Asia/Hong_Kong:20221124T183000
DTEND;TZID=Asia/Hong_Kong:20221124T214500
LOCATION:MCL Cinemas Plus+ Plaza Hollywood
SUMMARY:Private Screening of \"To My 19-year-old Self\" 《給十九歲的我》
UID:35919
END:VEVENT
END:VCALENDAR