BEGIN:VCALENDAR
PRODID:-//HKUST Drupal Platform//EN
VERSION:2.0
BEGIN:VTIMEZONE
TZID:Asia/Hong_Kong
BEGIN:STANDARD
DTSTART:20071104T020000
TZOFFSETFROM:+0700
TZOFFSETTO:+0800
TZNAME:HKT
END:STANDARD
END:VTIMEZONE
BEGIN:VEVENT
DTSTAMP;TZID=Asia/Hong_Kong:20260420T132903
DTSTART;TZID=Asia/Hong_Kong:20221118T130000
DTEND;TZID=Asia/Hong_Kong:20221118T140000
LOCATION:Room 6581-82, 6/F (near lift 27-28)
SUMMARY:FRIDAY SEMINAR SERIES - Remote Sensing Applications and IoT developments in Hong Kong
UID:35873
END:VEVENT
END:VCALENDAR