BEGIN:VCALENDAR
PRODID:-//HKUST Drupal Platform//EN
VERSION:2.0
BEGIN:VTIMEZONE
TZID:Asia/Hong_Kong
BEGIN:STANDARD
DTSTART:20071104T020000
TZOFFSETFROM:+0700
TZOFFSETTO:+0800
TZNAME:HKT
END:STANDARD
END:VTIMEZONE
BEGIN:VEVENT
DTSTAMP;TZID=Asia/Hong_Kong:20260420T152213
DTSTART;TZID=Asia/Hong_Kong:20221107T150000
DTEND;TZID=Asia/Hong_Kong:20221107T160000
LOCATION:LT-H
SUMMARY:Guest Seminar  - Wearable Non-Invasive Biosensors for Health Monitoring at Molecular Level
UID:35751
END:VEVENT
END:VCALENDAR