BEGIN:VCALENDAR
PRODID:-//HKUST Drupal Platform//EN
VERSION:2.0
BEGIN:VTIMEZONE
TZID:Asia/Hong_Kong
BEGIN:STANDARD
DTSTART:20071104T020000
TZOFFSETFROM:+0700
TZOFFSETTO:+0800
TZNAME:HKT
END:STANDARD
END:VTIMEZONE
BEGIN:VEVENT
DTSTAMP;TZID=Asia/Hong_Kong:20260421T124641
DTSTART;TZID=Asia/Hong_Kong:20221006T193000
DTEND;TZID=Asia/Hong_Kong:20221006T213000
LOCATION:Main Hall, Shaw Auditorium
SUMMARY:Cosmopolis Festival  - Synesthesia: An Electroacoustic Music and Multimedia Concert 
UID:35456
END:VEVENT
END:VCALENDAR