BEGIN:VCALENDAR
PRODID:-//HKUST Drupal Platform//EN
VERSION:2.0
BEGIN:VTIMEZONE
TZID:Asia/Hong_Kong
BEGIN:STANDARD
DTSTART:20071104T020000
TZOFFSETFROM:+0700
TZOFFSETTO:+0800
TZNAME:HKT
END:STANDARD
END:VTIMEZONE
BEGIN:VEVENT
DTSTAMP;TZID=Asia/Hong_Kong:20260420T180902
DTSTART;TZID=Asia/Hong_Kong:20220913T000000
DTEND;TZID=Asia/Hong_Kong:20220920T235900
LOCATION:Academic Concourse (outside LT-K) /Room 5613 (Lift 31/32)
SUMMARY:Mid-Autumn Festival Food Sharing
UID:35400
END:VEVENT
END:VCALENDAR