BEGIN:VCALENDAR
PRODID:-//HKUST Drupal Platform//EN
VERSION:2.0
BEGIN:VTIMEZONE
TZID:Asia/Hong_Kong
BEGIN:STANDARD
DTSTART:20071104T020000
TZOFFSETFROM:+0700
TZOFFSETTO:+0800
TZNAME:HKT
END:STANDARD
END:VTIMEZONE
BEGIN:VEVENT
DTSTAMP;TZID=Asia/Hong_Kong:20260420T152257
DTSTART;TZID=Asia/Hong_Kong:20220720T000000
DTEND;TZID=Asia/Hong_Kong:20221024T235900
SUMMARY:Call for Entries - Global Innovation Eco System Hong Kong 2022 Roadshow
UID:35002
END:VEVENT
END:VCALENDAR