BEGIN:VCALENDAR
PRODID:-//HKUST Drupal Platform//EN
VERSION:2.0
BEGIN:VTIMEZONE
TZID:Asia/Hong_Kong
BEGIN:STANDARD
DTSTART:20071104T020000
TZOFFSETFROM:+0700
TZOFFSETTO:+0800
TZNAME:HKT
END:STANDARD
END:VTIMEZONE
BEGIN:VEVENT
DTSTAMP;TZID=Asia/Hong_Kong:20260420T221958
DTSTART;TZID=Asia/Hong_Kong:20220728T100000
DTEND;TZID=Asia/Hong_Kong:20220728T110000
LOCATION:Online
SUMMARY:Department of Chemistry - PhD Student Seminar - Synthesis and Applications of Metal-organic Cage
UID:34981
END:VEVENT
END:VCALENDAR