BEGIN:VCALENDAR
PRODID:-//HKUST Drupal Platform//EN
VERSION:2.0
BEGIN:VTIMEZONE
TZID:Asia/Hong_Kong
BEGIN:STANDARD
DTSTART:20071104T020000
TZOFFSETFROM:+0700
TZOFFSETTO:+0800
TZNAME:HKT
END:STANDARD
END:VTIMEZONE
BEGIN:VEVENT
DTSTAMP;TZID=Asia/Hong_Kong:20260420T142922
DTSTART;TZID=Asia/Hong_Kong:20220801T150000
DTEND;TZID=Asia/Hong_Kong:20220801T180000
LOCATION:Zoom Meeting ID: 222-166-8888, No Passcode, HKUST
SUMMARY:PHD in Civil Engineering - Anisotropic behaviour of rooted soils upon monotonic and cyclic loadings
UID:34968
END:VEVENT
END:VCALENDAR