BEGIN:VCALENDAR
PRODID:-//HKUST Drupal Platform//EN
VERSION:2.0
BEGIN:VTIMEZONE
TZID:Asia/Hong_Kong
BEGIN:STANDARD
DTSTART:20071104T020000
TZOFFSETFROM:+0700
TZOFFSETTO:+0800
TZNAME:HKT
END:STANDARD
END:VTIMEZONE
BEGIN:VEVENT
DTSTAMP;TZID=Asia/Hong_Kong:20260420T221128
DTSTART;TZID=Asia/Hong_Kong:20220321T000000
DTEND;TZID=Asia/Hong_Kong:20220420T235900
SUMMARY:Invitation to Collaborate with the Hong Kong Sports Institute Through the Sports Science and Research Funding Scheme (SSRFS)
UID:34155
END:VEVENT
END:VCALENDAR