BEGIN:VCALENDAR
PRODID:-//HKUST Drupal Platform//EN
VERSION:2.0
BEGIN:VTIMEZONE
TZID:Asia/Hong_Kong
BEGIN:STANDARD
DTSTART:20071104T020000
TZOFFSETFROM:+0700
TZOFFSETTO:+0800
TZNAME:HKT
END:STANDARD
END:VTIMEZONE
BEGIN:VEVENT
DTSTAMP;TZID=Asia/Hong_Kong:20260420T220253
DTSTART;TZID=Asia/Hong_Kong:20220221T000000
DTEND;TZID=Asia/Hong_Kong:20220410T235900
SUMMARY:MAKE THE CASE – EAST ASIA STUDENT COMPETITION
UID:34039
END:VEVENT
END:VCALENDAR