BEGIN:VCALENDAR
PRODID:-//HKUST Drupal Platform//EN
VERSION:2.0
BEGIN:VTIMEZONE
TZID:Asia/Hong_Kong
BEGIN:STANDARD
DTSTART:20071104T020000
TZOFFSETFROM:+0700
TZOFFSETTO:+0800
TZNAME:HKT
END:STANDARD
END:VTIMEZONE
BEGIN:VEVENT
DTSTAMP;TZID=Asia/Hong_Kong:20260420T202549
DTSTART;TZID=Asia/Hong_Kong:20220314T120000
DTEND;TZID=Asia/Hong_Kong:20220314T130000
LOCATION:zoom
SUMMARY:Plant-based 101 online talk
UID:33981
END:VEVENT
END:VCALENDAR