BEGIN:VCALENDAR
PRODID:-//HKUST Drupal Platform//EN
VERSION:2.0
BEGIN:VTIMEZONE
TZID:Asia/Hong_Kong
BEGIN:STANDARD
DTSTART:20071104T020000
TZOFFSETFROM:+0700
TZOFFSETTO:+0800
TZNAME:HKT
END:STANDARD
END:VTIMEZONE
BEGIN:VEVENT
DTSTAMP;TZID=Asia/Hong_Kong:20260421T011725
DTSTART;TZID=Asia/Hong_Kong:20220222T140000
DTEND;TZID=Asia/Hong_Kong:20220222T150000
LOCATION:Online
SUMMARY:Department of Chemistry - PhD Student Seminar - Quasi-2D Perovskite Light-emitting Diode: Luminescence Physics and Approaches Towards Higher Efficiency
UID:33948
END:VEVENT
END:VCALENDAR