BEGIN:VCALENDAR
PRODID:-//HKUST Drupal Platform//EN
VERSION:2.0
BEGIN:VTIMEZONE
TZID:Asia/Hong_Kong
BEGIN:STANDARD
DTSTART:20071104T020000
TZOFFSETFROM:+0700
TZOFFSETTO:+0800
TZNAME:HKT
END:STANDARD
END:VTIMEZONE
BEGIN:VEVENT
DTSTAMP;TZID=Asia/Hong_Kong:20260420T214737
DTSTART;TZID=Asia/Hong_Kong:20220603T000000
DTEND;TZID=Asia/Hong_Kong:20220610T235900
LOCATION:Science Park (weekend camp), HKUST Clear Water Bay Campus 
SUMMARY:Sustainable Smart Campus Net-Zero Journey: Innovation Challenge    
UID:33740
END:VEVENT
END:VCALENDAR