BEGIN:VCALENDAR
PRODID:-//HKUST Drupal Platform//EN
VERSION:2.0
BEGIN:VTIMEZONE
TZID:Asia/Hong_Kong
BEGIN:STANDARD
DTSTART:20071104T020000
TZOFFSETFROM:+0700
TZOFFSETTO:+0800
TZNAME:HKT
END:STANDARD
END:VTIMEZONE
BEGIN:VEVENT
DTSTAMP;TZID=Asia/Hong_Kong:20260422T204558
DTSTART;TZID=Asia/Hong_Kong:20211115T000000
DTEND;TZID=Asia/Hong_Kong:20221114T235900
SUMMARY:项目申请意向书 - 前沿探索项目基金 & 工程项目基金 - 香港科技大学协同创新中心 （HCIC）
UID:29299
END:VEVENT
END:VCALENDAR