BEGIN:VCALENDAR
PRODID:-//HKUST Drupal Platform//EN
VERSION:2.0
BEGIN:VTIMEZONE
TZID:Asia/Hong_Kong
BEGIN:STANDARD
DTSTART:20071104T020000
TZOFFSETFROM:+0700
TZOFFSETTO:+0800
TZNAME:HKT
END:STANDARD
END:VTIMEZONE
BEGIN:VEVENT
DTSTAMP;TZID=Asia/Hong_Kong:20260420T221218
DTSTART;TZID=Asia/Hong_Kong:20211118T100000
DTEND;TZID=Asia/Hong_Kong:20211118T203000
LOCATION:Library LG4 multi-function room
SUMMARY:Sustainable Fashion Pop Up Store
UID:29298
END:VEVENT
END:VCALENDAR