BEGIN:VCALENDAR
PRODID:-//HKUST Drupal Platform//EN
VERSION:2.0
BEGIN:VTIMEZONE
TZID:Asia/Hong_Kong
BEGIN:STANDARD
DTSTART:20071104T020000
TZOFFSETFROM:+0700
TZOFFSETTO:+0800
TZNAME:HKT
END:STANDARD
END:VTIMEZONE
BEGIN:VEVENT
DTSTAMP;TZID=Asia/Hong_Kong:20260421T011727
DTSTART;TZID=Asia/Hong_Kong:20211130T160000
DTEND;TZID=Asia/Hong_Kong:20211130T180000
LOCATION:Online
SUMMARY:Department of Chemistry Seminar - A New Reactivity Paradigm: trans-Hydrogenation, gem-Hydrogenation and trans-Hydrometalation of Alkynes
UID:29272
END:VEVENT
END:VCALENDAR