BEGIN:VCALENDAR
PRODID:-//HKUST Drupal Platform//EN
VERSION:2.0
BEGIN:VTIMEZONE
TZID:Asia/Hong_Kong
BEGIN:STANDARD
DTSTART:20071104T020000
TZOFFSETFROM:+0700
TZOFFSETTO:+0800
TZNAME:HKT
END:STANDARD
END:VTIMEZONE
BEGIN:VEVENT
DTSTAMP;TZID=Asia/Hong_Kong:20260420T142925
DTSTART;TZID=Asia/Hong_Kong:20211218T084500
DTEND;TZID=Asia/Hong_Kong:20211218T150000
LOCATION:IAS Building (Lecture Theatre) and Online
SUMMARY:The 28th Annual Conference of Hong Kong Institution of Science  - The 28th Annual Conference of Hong Kong Institution of Science
UID:29178
END:VEVENT
END:VCALENDAR