BEGIN:VCALENDAR
PRODID:-//HKUST Drupal Platform//EN
VERSION:2.0
BEGIN:VTIMEZONE
TZID:Asia/Hong_Kong
BEGIN:STANDARD
DTSTART:20071104T020000
TZOFFSETFROM:+0700
TZOFFSETTO:+0800
TZNAME:HKT
END:STANDARD
END:VTIMEZONE
BEGIN:VEVENT
DTSTAMP;TZID=Asia/Hong_Kong:20260420T152249
DTSTART;TZID=Asia/Hong_Kong:20210916T143000
DTEND;TZID=Asia/Hong_Kong:20210916T173000
SUMMARY:香港科技大学-博智林联合研究院 2021 前沿技术研讨会 – 双碳目标下的绿色建筑和室内定位
UID:28878
END:VEVENT
END:VCALENDAR