BEGIN:VCALENDAR
PRODID:-//HKUST Drupal Platform//EN
VERSION:2.0
BEGIN:VTIMEZONE
TZID:Asia/Hong_Kong
BEGIN:STANDARD
DTSTART:20071104T020000
TZOFFSETFROM:+0700
TZOFFSETTO:+0800
TZNAME:HKT
END:STANDARD
END:VTIMEZONE
BEGIN:VEVENT
DTSTAMP;TZID=Asia/Hong_Kong:20260420T234129
DTSTART;TZID=Asia/Hong_Kong:20210917T000000
DTEND;TZID=Asia/Hong_Kong:20210918T235900
LOCATION:The Box, Freespace, Art Park, West Kowloon Cultural District
SUMMARY:Save the Date! HKUST Musical: Wonderful Town Featuring HKUST students, staff and alumni
UID:28779
END:VEVENT
END:VCALENDAR