BEGIN:VCALENDAR
PRODID:-//HKUST Drupal Platform//EN
VERSION:2.0
BEGIN:VTIMEZONE
TZID:Asia/Hong_Kong
BEGIN:STANDARD
DTSTART:20071104T020000
TZOFFSETFROM:+0700
TZOFFSETTO:+0800
TZNAME:HKT
END:STANDARD
END:VTIMEZONE
BEGIN:VEVENT
DTSTAMP;TZID=Asia/Hong_Kong:20260420T152209
DTSTART;TZID=Asia/Hong_Kong:20210722T000000
DTEND;TZID=Asia/Hong_Kong:20211231T235900
SUMMARY:香港科技大学-佳兆业联合研究院 (HKJRI) - 科技领袖计划：实习 2021
UID:28679
END:VEVENT
END:VCALENDAR