BEGIN:VCALENDAR
PRODID:-//HKUST Drupal Platform//EN
VERSION:2.0
BEGIN:VTIMEZONE
TZID:Asia/Hong_Kong
BEGIN:STANDARD
DTSTART:20071104T020000
TZOFFSETFROM:+0700
TZOFFSETTO:+0800
TZNAME:HKT
END:STANDARD
END:VTIMEZONE
BEGIN:VEVENT
DTSTAMP;TZID=Asia/Hong_Kong:20260420T234246
DTSTART;TZID=Asia/Hong_Kong:20210702T160000
DTEND;TZID=Asia/Hong_Kong:20210702T170000
LOCATION:Online
SUMMARY:Department of Chemistry - PhD Student Seminar - Single-molecule Fluorescence in Cellulo
UID:28440
END:VEVENT
END:VCALENDAR