BEGIN:VCALENDAR
PRODID:-//HKUST Drupal Platform//EN
VERSION:2.0
BEGIN:VTIMEZONE
TZID:Asia/Hong_Kong
BEGIN:STANDARD
DTSTART:20071104T020000
TZOFFSETFROM:+0700
TZOFFSETTO:+0800
TZNAME:HKT
END:STANDARD
END:VTIMEZONE
BEGIN:VEVENT
DTSTAMP;TZID=Asia/Hong_Kong:20260420T152215
DTSTART;TZID=Asia/Hong_Kong:20210528T010000
DTEND;TZID=Asia/Hong_Kong:20210528T173000
LOCATION:Yim Tin Tsai
SUMMARY:Visit to Yim Tin Tsai Arts Festival 2021 (self-visiting activity)
UID:28191
END:VEVENT
END:VCALENDAR