BEGIN:VCALENDAR
PRODID:-//HKUST Drupal Platform//EN
VERSION:2.0
BEGIN:VTIMEZONE
TZID:Asia/Hong_Kong
BEGIN:STANDARD
DTSTART:20071104T020000
TZOFFSETFROM:+0700
TZOFFSETTO:+0800
TZNAME:HKT
END:STANDARD
END:VTIMEZONE
BEGIN:VEVENT
DTSTAMP;TZID=Asia/Hong_Kong:20260422T022052
DTSTART;TZID=Asia/Hong_Kong:20210522T190000
DTEND;TZID=Asia/Hong_Kong:20210522T200000
LOCATION:https://hkust.zoom.us/j/92180189935 (Passcode: 136071)
SUMMARY:Department of Mathematics - PhD Student Seminar - Robo-Advisor in DeFi
UID:28094
END:VEVENT
END:VCALENDAR