BEGIN:VCALENDAR
PRODID:-//HKUST Drupal Platform//EN
VERSION:2.0
BEGIN:VTIMEZONE
TZID:Asia/Hong_Kong
BEGIN:STANDARD
DTSTART:20071104T020000
TZOFFSETFROM:+0700
TZOFFSETTO:+0800
TZNAME:HKT
END:STANDARD
END:VTIMEZONE
BEGIN:VEVENT
DTSTAMP;TZID=Asia/Hong_Kong:20260420T220253
DTSTART;TZID=Asia/Hong_Kong:20210416T090000
DTEND;TZID=Asia/Hong_Kong:20210416T235500
LOCATION:HKUST campus 
SUMMARY:Beverage Carton Recycling Program - win coupon and recycled napkin
UID:27935
END:VEVENT
BEGIN:VEVENT
DTSTAMP;TZID=Asia/Hong_Kong:20260420T220253
DTSTART;TZID=Asia/Hong_Kong:20210417T090000
DTEND;TZID=Asia/Hong_Kong:20210417T235500
LOCATION:HKUST campus 
SUMMARY:Beverage Carton Recycling Program - win coupon and recycled napkin
UID:27935
END:VEVENT
BEGIN:VEVENT
DTSTAMP;TZID=Asia/Hong_Kong:20260420T220253
DTSTART;TZID=Asia/Hong_Kong:20210418T090000
DTEND;TZID=Asia/Hong_Kong:20210418T235500
LOCATION:HKUST campus 
SUMMARY:Beverage Carton Recycling Program - win coupon and recycled napkin
UID:27935
END:VEVENT
BEGIN:VEVENT
DTSTAMP;TZID=Asia/Hong_Kong:20260420T220253
DTSTART;TZID=Asia/Hong_Kong:20210419T090000
DTEND;TZID=Asia/Hong_Kong:20210419T235500
LOCATION:HKUST campus 
SUMMARY:Beverage Carton Recycling Program - win coupon and recycled napkin
UID:27935
END:VEVENT
BEGIN:VEVENT
DTSTAMP;TZID=Asia/Hong_Kong:20260420T220253
DTSTART;TZID=Asia/Hong_Kong:20210420T090000
DTEND;TZID=Asia/Hong_Kong:20210420T235500
LOCATION:HKUST campus 
SUMMARY:Beverage Carton Recycling Program - win coupon and recycled napkin
UID:27935
END:VEVENT
BEGIN:VEVENT
DTSTAMP;TZID=Asia/Hong_Kong:20260420T220253
DTSTART;TZID=Asia/Hong_Kong:20210421T090000
DTEND;TZID=Asia/Hong_Kong:20210421T235500
LOCATION:HKUST campus 
SUMMARY:Beverage Carton Recycling Program - win coupon and recycled napkin
UID:27935
END:VEVENT
BEGIN:VEVENT
DTSTAMP;TZID=Asia/Hong_Kong:20260420T220253
DTSTART;TZID=Asia/Hong_Kong:20210422T090000
DTEND;TZID=Asia/Hong_Kong:20210422T235500
LOCATION:HKUST campus 
SUMMARY:Beverage Carton Recycling Program - win coupon and recycled napkin
UID:27935
END:VEVENT
BEGIN:VEVENT
DTSTAMP;TZID=Asia/Hong_Kong:20260420T220253
DTSTART;TZID=Asia/Hong_Kong:20210423T090000
DTEND;TZID=Asia/Hong_Kong:20210423T235500
LOCATION:HKUST campus 
SUMMARY:Beverage Carton Recycling Program - win coupon and recycled napkin
UID:27935
END:VEVENT
BEGIN:VEVENT
DTSTAMP;TZID=Asia/Hong_Kong:20260420T220253
DTSTART;TZID=Asia/Hong_Kong:20210424T090000
DTEND;TZID=Asia/Hong_Kong:20210424T235500
LOCATION:HKUST campus 
SUMMARY:Beverage Carton Recycling Program - win coupon and recycled napkin
UID:27935
END:VEVENT
BEGIN:VEVENT
DTSTAMP;TZID=Asia/Hong_Kong:20260420T220253
DTSTART;TZID=Asia/Hong_Kong:20210425T090000
DTEND;TZID=Asia/Hong_Kong:20210425T235500
LOCATION:HKUST campus 
SUMMARY:Beverage Carton Recycling Program - win coupon and recycled napkin
UID:27935
END:VEVENT
BEGIN:VEVENT
DTSTAMP;TZID=Asia/Hong_Kong:20260420T220253
DTSTART;TZID=Asia/Hong_Kong:20210426T090000
DTEND;TZID=Asia/Hong_Kong:20210426T235500
LOCATION:HKUST campus 
SUMMARY:Beverage Carton Recycling Program - win coupon and recycled napkin
UID:27935
END:VEVENT
BEGIN:VEVENT
DTSTAMP;TZID=Asia/Hong_Kong:20260420T220253
DTSTART;TZID=Asia/Hong_Kong:20210427T090000
DTEND;TZID=Asia/Hong_Kong:20210427T235500
LOCATION:HKUST campus 
SUMMARY:Beverage Carton Recycling Program - win coupon and recycled napkin
UID:27935
END:VEVENT
BEGIN:VEVENT
DTSTAMP;TZID=Asia/Hong_Kong:20260420T220253
DTSTART;TZID=Asia/Hong_Kong:20210428T090000
DTEND;TZID=Asia/Hong_Kong:20210428T235500
LOCATION:HKUST campus 
SUMMARY:Beverage Carton Recycling Program - win coupon and recycled napkin
UID:27935
END:VEVENT
BEGIN:VEVENT
DTSTAMP;TZID=Asia/Hong_Kong:20260420T220253
DTSTART;TZID=Asia/Hong_Kong:20210429T090000
DTEND;TZID=Asia/Hong_Kong:20210429T235500
LOCATION:HKUST campus 
SUMMARY:Beverage Carton Recycling Program - win coupon and recycled napkin
UID:27935
END:VEVENT
BEGIN:VEVENT
DTSTAMP;TZID=Asia/Hong_Kong:20260420T220253
DTSTART;TZID=Asia/Hong_Kong:20210430T090000
DTEND;TZID=Asia/Hong_Kong:20210430T235500
LOCATION:HKUST campus 
SUMMARY:Beverage Carton Recycling Program - win coupon and recycled napkin
UID:27935
END:VEVENT
BEGIN:VEVENT
DTSTAMP;TZID=Asia/Hong_Kong:20260420T220253
DTSTART;TZID=Asia/Hong_Kong:20210501T090000
DTEND;TZID=Asia/Hong_Kong:20210501T235500
LOCATION:HKUST campus 
SUMMARY:Beverage Carton Recycling Program - win coupon and recycled napkin
UID:27935
END:VEVENT
BEGIN:VEVENT
DTSTAMP;TZID=Asia/Hong_Kong:20260420T220253
DTSTART;TZID=Asia/Hong_Kong:20210502T090000
DTEND;TZID=Asia/Hong_Kong:20210502T235500
LOCATION:HKUST campus 
SUMMARY:Beverage Carton Recycling Program - win coupon and recycled napkin
UID:27935
END:VEVENT
BEGIN:VEVENT
DTSTAMP;TZID=Asia/Hong_Kong:20260420T220253
DTSTART;TZID=Asia/Hong_Kong:20210503T090000
DTEND;TZID=Asia/Hong_Kong:20210503T235500
LOCATION:HKUST campus 
SUMMARY:Beverage Carton Recycling Program - win coupon and recycled napkin
UID:27935
END:VEVENT
BEGIN:VEVENT
DTSTAMP;TZID=Asia/Hong_Kong:20260420T220253
DTSTART;TZID=Asia/Hong_Kong:20210504T090000
DTEND;TZID=Asia/Hong_Kong:20210504T235500
LOCATION:HKUST campus 
SUMMARY:Beverage Carton Recycling Program - win coupon and recycled napkin
UID:27935
END:VEVENT
BEGIN:VEVENT
DTSTAMP;TZID=Asia/Hong_Kong:20260420T220253
DTSTART;TZID=Asia/Hong_Kong:20210505T090000
DTEND;TZID=Asia/Hong_Kong:20210505T235500
LOCATION:HKUST campus 
SUMMARY:Beverage Carton Recycling Program - win coupon and recycled napkin
UID:27935
END:VEVENT
BEGIN:VEVENT
DTSTAMP;TZID=Asia/Hong_Kong:20260420T220253
DTSTART;TZID=Asia/Hong_Kong:20210506T090000
DTEND;TZID=Asia/Hong_Kong:20210506T235500
LOCATION:HKUST campus 
SUMMARY:Beverage Carton Recycling Program - win coupon and recycled napkin
UID:27935
END:VEVENT
BEGIN:VEVENT
DTSTAMP;TZID=Asia/Hong_Kong:20260420T220253
DTSTART;TZID=Asia/Hong_Kong:20210507T090000
DTEND;TZID=Asia/Hong_Kong:20210507T235500
LOCATION:HKUST campus 
SUMMARY:Beverage Carton Recycling Program - win coupon and recycled napkin
UID:27935
END:VEVENT
BEGIN:VEVENT
DTSTAMP;TZID=Asia/Hong_Kong:20260420T220253
DTSTART;TZID=Asia/Hong_Kong:20210508T090000
DTEND;TZID=Asia/Hong_Kong:20210508T235500
LOCATION:HKUST campus 
SUMMARY:Beverage Carton Recycling Program - win coupon and recycled napkin
UID:27935
END:VEVENT
BEGIN:VEVENT
DTSTAMP;TZID=Asia/Hong_Kong:20260420T220253
DTSTART;TZID=Asia/Hong_Kong:20210509T090000
DTEND;TZID=Asia/Hong_Kong:20210509T235500
LOCATION:HKUST campus 
SUMMARY:Beverage Carton Recycling Program - win coupon and recycled napkin
UID:27935
END:VEVENT
BEGIN:VEVENT
DTSTAMP;TZID=Asia/Hong_Kong:20260420T220253
DTSTART;TZID=Asia/Hong_Kong:20210510T090000
DTEND;TZID=Asia/Hong_Kong:20210510T235500
LOCATION:HKUST campus 
SUMMARY:Beverage Carton Recycling Program - win coupon and recycled napkin
UID:27935
END:VEVENT
BEGIN:VEVENT
DTSTAMP;TZID=Asia/Hong_Kong:20260420T220253
DTSTART;TZID=Asia/Hong_Kong:20210511T090000
DTEND;TZID=Asia/Hong_Kong:20210511T235500
LOCATION:HKUST campus 
SUMMARY:Beverage Carton Recycling Program - win coupon and recycled napkin
UID:27935
END:VEVENT
BEGIN:VEVENT
DTSTAMP;TZID=Asia/Hong_Kong:20260420T220253
DTSTART;TZID=Asia/Hong_Kong:20210512T090000
DTEND;TZID=Asia/Hong_Kong:20210512T235500
LOCATION:HKUST campus 
SUMMARY:Beverage Carton Recycling Program - win coupon and recycled napkin
UID:27935
END:VEVENT
BEGIN:VEVENT
DTSTAMP;TZID=Asia/Hong_Kong:20260420T220253
DTSTART;TZID=Asia/Hong_Kong:20210513T090000
DTEND;TZID=Asia/Hong_Kong:20210513T235500
LOCATION:HKUST campus 
SUMMARY:Beverage Carton Recycling Program - win coupon and recycled napkin
UID:27935
END:VEVENT
BEGIN:VEVENT
DTSTAMP;TZID=Asia/Hong_Kong:20260420T220253
DTSTART;TZID=Asia/Hong_Kong:20210514T090000
DTEND;TZID=Asia/Hong_Kong:20210514T235500
LOCATION:HKUST campus 
SUMMARY:Beverage Carton Recycling Program - win coupon and recycled napkin
UID:27935
END:VEVENT
BEGIN:VEVENT
DTSTAMP;TZID=Asia/Hong_Kong:20260420T220253
DTSTART;TZID=Asia/Hong_Kong:20210515T090000
DTEND;TZID=Asia/Hong_Kong:20210515T235500
LOCATION:HKUST campus 
SUMMARY:Beverage Carton Recycling Program - win coupon and recycled napkin
UID:27935
END:VEVENT
BEGIN:VEVENT
DTSTAMP;TZID=Asia/Hong_Kong:20260420T220253
DTSTART;TZID=Asia/Hong_Kong:20210516T090000
DTEND;TZID=Asia/Hong_Kong:20210516T235500
LOCATION:HKUST campus 
SUMMARY:Beverage Carton Recycling Program - win coupon and recycled napkin
UID:27935
END:VEVENT
BEGIN:VEVENT
DTSTAMP;TZID=Asia/Hong_Kong:20260420T220253
DTSTART;TZID=Asia/Hong_Kong:20210517T090000
DTEND;TZID=Asia/Hong_Kong:20210517T235500
LOCATION:HKUST campus 
SUMMARY:Beverage Carton Recycling Program - win coupon and recycled napkin
UID:27935
END:VEVENT
BEGIN:VEVENT
DTSTAMP;TZID=Asia/Hong_Kong:20260420T220253
DTSTART;TZID=Asia/Hong_Kong:20210518T090000
DTEND;TZID=Asia/Hong_Kong:20210518T235500
LOCATION:HKUST campus 
SUMMARY:Beverage Carton Recycling Program - win coupon and recycled napkin
UID:27935
END:VEVENT
BEGIN:VEVENT
DTSTAMP;TZID=Asia/Hong_Kong:20260420T220253
DTSTART;TZID=Asia/Hong_Kong:20210519T090000
DTEND;TZID=Asia/Hong_Kong:20210519T235500
LOCATION:HKUST campus 
SUMMARY:Beverage Carton Recycling Program - win coupon and recycled napkin
UID:27935
END:VEVENT
BEGIN:VEVENT
DTSTAMP;TZID=Asia/Hong_Kong:20260420T220253
DTSTART;TZID=Asia/Hong_Kong:20210520T090000
DTEND;TZID=Asia/Hong_Kong:20210520T235500
LOCATION:HKUST campus 
SUMMARY:Beverage Carton Recycling Program - win coupon and recycled napkin
UID:27935
END:VEVENT
BEGIN:VEVENT
DTSTAMP;TZID=Asia/Hong_Kong:20260420T220253
DTSTART;TZID=Asia/Hong_Kong:20210521T090000
DTEND;TZID=Asia/Hong_Kong:20210521T235500
LOCATION:HKUST campus 
SUMMARY:Beverage Carton Recycling Program - win coupon and recycled napkin
UID:27935
END:VEVENT
BEGIN:VEVENT
DTSTAMP;TZID=Asia/Hong_Kong:20260420T220253
DTSTART;TZID=Asia/Hong_Kong:20210522T090000
DTEND;TZID=Asia/Hong_Kong:20210522T235500
LOCATION:HKUST campus 
SUMMARY:Beverage Carton Recycling Program - win coupon and recycled napkin
UID:27935
END:VEVENT
BEGIN:VEVENT
DTSTAMP;TZID=Asia/Hong_Kong:20260420T220253
DTSTART;TZID=Asia/Hong_Kong:20210523T090000
DTEND;TZID=Asia/Hong_Kong:20210523T235500
LOCATION:HKUST campus 
SUMMARY:Beverage Carton Recycling Program - win coupon and recycled napkin
UID:27935
END:VEVENT
BEGIN:VEVENT
DTSTAMP;TZID=Asia/Hong_Kong:20260420T220253
DTSTART;TZID=Asia/Hong_Kong:20210524T090000
DTEND;TZID=Asia/Hong_Kong:20210524T235500
LOCATION:HKUST campus 
SUMMARY:Beverage Carton Recycling Program - win coupon and recycled napkin
UID:27935
END:VEVENT
BEGIN:VEVENT
DTSTAMP;TZID=Asia/Hong_Kong:20260420T220253
DTSTART;TZID=Asia/Hong_Kong:20210525T090000
DTEND;TZID=Asia/Hong_Kong:20210525T235500
LOCATION:HKUST campus 
SUMMARY:Beverage Carton Recycling Program - win coupon and recycled napkin
UID:27935
END:VEVENT
BEGIN:VEVENT
DTSTAMP;TZID=Asia/Hong_Kong:20260420T220253
DTSTART;TZID=Asia/Hong_Kong:20210526T090000
DTEND;TZID=Asia/Hong_Kong:20210526T235500
LOCATION:HKUST campus 
SUMMARY:Beverage Carton Recycling Program - win coupon and recycled napkin
UID:27935
END:VEVENT
BEGIN:VEVENT
DTSTAMP;TZID=Asia/Hong_Kong:20260420T220253
DTSTART;TZID=Asia/Hong_Kong:20210527T090000
DTEND;TZID=Asia/Hong_Kong:20210527T235500
LOCATION:HKUST campus 
SUMMARY:Beverage Carton Recycling Program - win coupon and recycled napkin
UID:27935
END:VEVENT
BEGIN:VEVENT
DTSTAMP;TZID=Asia/Hong_Kong:20260420T220253
DTSTART;TZID=Asia/Hong_Kong:20210528T090000
DTEND;TZID=Asia/Hong_Kong:20210528T235500
LOCATION:HKUST campus 
SUMMARY:Beverage Carton Recycling Program - win coupon and recycled napkin
UID:27935
END:VEVENT
BEGIN:VEVENT
DTSTAMP;TZID=Asia/Hong_Kong:20260420T220253
DTSTART;TZID=Asia/Hong_Kong:20210529T090000
DTEND;TZID=Asia/Hong_Kong:20210529T235500
LOCATION:HKUST campus 
SUMMARY:Beverage Carton Recycling Program - win coupon and recycled napkin
UID:27935
END:VEVENT
BEGIN:VEVENT
DTSTAMP;TZID=Asia/Hong_Kong:20260420T220253
DTSTART;TZID=Asia/Hong_Kong:20210530T090000
DTEND;TZID=Asia/Hong_Kong:20210530T235500
LOCATION:HKUST campus 
SUMMARY:Beverage Carton Recycling Program - win coupon and recycled napkin
UID:27935
END:VEVENT
BEGIN:VEVENT
DTSTAMP;TZID=Asia/Hong_Kong:20260420T220253
DTSTART;TZID=Asia/Hong_Kong:20210531T090000
DTEND;TZID=Asia/Hong_Kong:20210531T235500
LOCATION:HKUST campus 
SUMMARY:Beverage Carton Recycling Program - win coupon and recycled napkin
UID:27935
END:VEVENT
BEGIN:VEVENT
DTSTAMP;TZID=Asia/Hong_Kong:20260420T220253
DTSTART;TZID=Asia/Hong_Kong:20210601T090000
DTEND;TZID=Asia/Hong_Kong:20210601T235500
LOCATION:HKUST campus 
SUMMARY:Beverage Carton Recycling Program - win coupon and recycled napkin
UID:27935
END:VEVENT
BEGIN:VEVENT
DTSTAMP;TZID=Asia/Hong_Kong:20260420T220253
DTSTART;TZID=Asia/Hong_Kong:20210602T090000
DTEND;TZID=Asia/Hong_Kong:20210602T235500
LOCATION:HKUST campus 
SUMMARY:Beverage Carton Recycling Program - win coupon and recycled napkin
UID:27935
END:VEVENT
BEGIN:VEVENT
DTSTAMP;TZID=Asia/Hong_Kong:20260420T220253
DTSTART;TZID=Asia/Hong_Kong:20210603T090000
DTEND;TZID=Asia/Hong_Kong:20210603T235500
LOCATION:HKUST campus 
SUMMARY:Beverage Carton Recycling Program - win coupon and recycled napkin
UID:27935
END:VEVENT
BEGIN:VEVENT
DTSTAMP;TZID=Asia/Hong_Kong:20260420T220253
DTSTART;TZID=Asia/Hong_Kong:20210604T090000
DTEND;TZID=Asia/Hong_Kong:20210604T235500
LOCATION:HKUST campus 
SUMMARY:Beverage Carton Recycling Program - win coupon and recycled napkin
UID:27935
END:VEVENT
BEGIN:VEVENT
DTSTAMP;TZID=Asia/Hong_Kong:20260420T220253
DTSTART;TZID=Asia/Hong_Kong:20210605T090000
DTEND;TZID=Asia/Hong_Kong:20210605T235500
LOCATION:HKUST campus 
SUMMARY:Beverage Carton Recycling Program - win coupon and recycled napkin
UID:27935
END:VEVENT
BEGIN:VEVENT
DTSTAMP;TZID=Asia/Hong_Kong:20260420T220253
DTSTART;TZID=Asia/Hong_Kong:20210606T090000
DTEND;TZID=Asia/Hong_Kong:20210606T235500
LOCATION:HKUST campus 
SUMMARY:Beverage Carton Recycling Program - win coupon and recycled napkin
UID:27935
END:VEVENT
BEGIN:VEVENT
DTSTAMP;TZID=Asia/Hong_Kong:20260420T220253
DTSTART;TZID=Asia/Hong_Kong:20210607T090000
DTEND;TZID=Asia/Hong_Kong:20210607T235500
LOCATION:HKUST campus 
SUMMARY:Beverage Carton Recycling Program - win coupon and recycled napkin
UID:27935
END:VEVENT
BEGIN:VEVENT
DTSTAMP;TZID=Asia/Hong_Kong:20260420T220253
DTSTART;TZID=Asia/Hong_Kong:20210608T090000
DTEND;TZID=Asia/Hong_Kong:20210608T235500
LOCATION:HKUST campus 
SUMMARY:Beverage Carton Recycling Program - win coupon and recycled napkin
UID:27935
END:VEVENT
BEGIN:VEVENT
DTSTAMP;TZID=Asia/Hong_Kong:20260420T220253
DTSTART;TZID=Asia/Hong_Kong:20210609T090000
DTEND;TZID=Asia/Hong_Kong:20210609T235500
LOCATION:HKUST campus 
SUMMARY:Beverage Carton Recycling Program - win coupon and recycled napkin
UID:27935
END:VEVENT
BEGIN:VEVENT
DTSTAMP;TZID=Asia/Hong_Kong:20260420T220253
DTSTART;TZID=Asia/Hong_Kong:20210610T090000
DTEND;TZID=Asia/Hong_Kong:20210610T235500
LOCATION:HKUST campus 
SUMMARY:Beverage Carton Recycling Program - win coupon and recycled napkin
UID:27935
END:VEVENT
BEGIN:VEVENT
DTSTAMP;TZID=Asia/Hong_Kong:20260420T220253
DTSTART;TZID=Asia/Hong_Kong:20210611T090000
DTEND;TZID=Asia/Hong_Kong:20210611T235500
LOCATION:HKUST campus 
SUMMARY:Beverage Carton Recycling Program - win coupon and recycled napkin
UID:27935
END:VEVENT
BEGIN:VEVENT
DTSTAMP;TZID=Asia/Hong_Kong:20260420T220253
DTSTART;TZID=Asia/Hong_Kong:20210612T090000
DTEND;TZID=Asia/Hong_Kong:20210612T235500
LOCATION:HKUST campus 
SUMMARY:Beverage Carton Recycling Program - win coupon and recycled napkin
UID:27935
END:VEVENT
BEGIN:VEVENT
DTSTAMP;TZID=Asia/Hong_Kong:20260420T220253
DTSTART;TZID=Asia/Hong_Kong:20210613T090000
DTEND;TZID=Asia/Hong_Kong:20210613T235500
LOCATION:HKUST campus 
SUMMARY:Beverage Carton Recycling Program - win coupon and recycled napkin
UID:27935
END:VEVENT
BEGIN:VEVENT
DTSTAMP;TZID=Asia/Hong_Kong:20260420T220253
DTSTART;TZID=Asia/Hong_Kong:20210614T090000
DTEND;TZID=Asia/Hong_Kong:20210614T235500
LOCATION:HKUST campus 
SUMMARY:Beverage Carton Recycling Program - win coupon and recycled napkin
UID:27935
END:VEVENT
BEGIN:VEVENT
DTSTAMP;TZID=Asia/Hong_Kong:20260420T220253
DTSTART;TZID=Asia/Hong_Kong:20210615T090000
DTEND;TZID=Asia/Hong_Kong:20210615T235500
LOCATION:HKUST campus 
SUMMARY:Beverage Carton Recycling Program - win coupon and recycled napkin
UID:27935
END:VEVENT
BEGIN:VEVENT
DTSTAMP;TZID=Asia/Hong_Kong:20260420T220253
DTSTART;TZID=Asia/Hong_Kong:20210616T090000
DTEND;TZID=Asia/Hong_Kong:20210616T235500
LOCATION:HKUST campus 
SUMMARY:Beverage Carton Recycling Program - win coupon and recycled napkin
UID:27935
END:VEVENT
BEGIN:VEVENT
DTSTAMP;TZID=Asia/Hong_Kong:20260420T220253
DTSTART;TZID=Asia/Hong_Kong:20210617T090000
DTEND;TZID=Asia/Hong_Kong:20210617T235500
LOCATION:HKUST campus 
SUMMARY:Beverage Carton Recycling Program - win coupon and recycled napkin
UID:27935
END:VEVENT
BEGIN:VEVENT
DTSTAMP;TZID=Asia/Hong_Kong:20260420T220253
DTSTART;TZID=Asia/Hong_Kong:20210618T090000
DTEND;TZID=Asia/Hong_Kong:20210618T235500
LOCATION:HKUST campus 
SUMMARY:Beverage Carton Recycling Program - win coupon and recycled napkin
UID:27935
END:VEVENT
BEGIN:VEVENT
DTSTAMP;TZID=Asia/Hong_Kong:20260420T220253
DTSTART;TZID=Asia/Hong_Kong:20210619T090000
DTEND;TZID=Asia/Hong_Kong:20210619T235500
LOCATION:HKUST campus 
SUMMARY:Beverage Carton Recycling Program - win coupon and recycled napkin
UID:27935
END:VEVENT
BEGIN:VEVENT
DTSTAMP;TZID=Asia/Hong_Kong:20260420T220253
DTSTART;TZID=Asia/Hong_Kong:20210620T090000
DTEND;TZID=Asia/Hong_Kong:20210620T235500
LOCATION:HKUST campus 
SUMMARY:Beverage Carton Recycling Program - win coupon and recycled napkin
UID:27935
END:VEVENT
BEGIN:VEVENT
DTSTAMP;TZID=Asia/Hong_Kong:20260420T220253
DTSTART;TZID=Asia/Hong_Kong:20210621T090000
DTEND;TZID=Asia/Hong_Kong:20210621T235500
LOCATION:HKUST campus 
SUMMARY:Beverage Carton Recycling Program - win coupon and recycled napkin
UID:27935
END:VEVENT
BEGIN:VEVENT
DTSTAMP;TZID=Asia/Hong_Kong:20260420T220253
DTSTART;TZID=Asia/Hong_Kong:20210622T090000
DTEND;TZID=Asia/Hong_Kong:20210622T235500
LOCATION:HKUST campus 
SUMMARY:Beverage Carton Recycling Program - win coupon and recycled napkin
UID:27935
END:VEVENT
BEGIN:VEVENT
DTSTAMP;TZID=Asia/Hong_Kong:20260420T220253
DTSTART;TZID=Asia/Hong_Kong:20210623T090000
DTEND;TZID=Asia/Hong_Kong:20210623T235500
LOCATION:HKUST campus 
SUMMARY:Beverage Carton Recycling Program - win coupon and recycled napkin
UID:27935
END:VEVENT
BEGIN:VEVENT
DTSTAMP;TZID=Asia/Hong_Kong:20260420T220253
DTSTART;TZID=Asia/Hong_Kong:20210624T090000
DTEND;TZID=Asia/Hong_Kong:20210624T235500
LOCATION:HKUST campus 
SUMMARY:Beverage Carton Recycling Program - win coupon and recycled napkin
UID:27935
END:VEVENT
BEGIN:VEVENT
DTSTAMP;TZID=Asia/Hong_Kong:20260420T220253
DTSTART;TZID=Asia/Hong_Kong:20210625T090000
DTEND;TZID=Asia/Hong_Kong:20210625T235500
LOCATION:HKUST campus 
SUMMARY:Beverage Carton Recycling Program - win coupon and recycled napkin
UID:27935
END:VEVENT
BEGIN:VEVENT
DTSTAMP;TZID=Asia/Hong_Kong:20260420T220253
DTSTART;TZID=Asia/Hong_Kong:20210626T090000
DTEND;TZID=Asia/Hong_Kong:20210626T235500
LOCATION:HKUST campus 
SUMMARY:Beverage Carton Recycling Program - win coupon and recycled napkin
UID:27935
END:VEVENT
BEGIN:VEVENT
DTSTAMP;TZID=Asia/Hong_Kong:20260420T220253
DTSTART;TZID=Asia/Hong_Kong:20210627T090000
DTEND;TZID=Asia/Hong_Kong:20210627T235500
LOCATION:HKUST campus 
SUMMARY:Beverage Carton Recycling Program - win coupon and recycled napkin
UID:27935
END:VEVENT
BEGIN:VEVENT
DTSTAMP;TZID=Asia/Hong_Kong:20260420T220253
DTSTART;TZID=Asia/Hong_Kong:20210628T090000
DTEND;TZID=Asia/Hong_Kong:20210628T235500
LOCATION:HKUST campus 
SUMMARY:Beverage Carton Recycling Program - win coupon and recycled napkin
UID:27935
END:VEVENT
BEGIN:VEVENT
DTSTAMP;TZID=Asia/Hong_Kong:20260420T220253
DTSTART;TZID=Asia/Hong_Kong:20210629T090000
DTEND;TZID=Asia/Hong_Kong:20210629T235500
LOCATION:HKUST campus 
SUMMARY:Beverage Carton Recycling Program - win coupon and recycled napkin
UID:27935
END:VEVENT
BEGIN:VEVENT
DTSTAMP;TZID=Asia/Hong_Kong:20260420T220253
DTSTART;TZID=Asia/Hong_Kong:20210630T090000
DTEND;TZID=Asia/Hong_Kong:20210630T235500
LOCATION:HKUST campus 
SUMMARY:Beverage Carton Recycling Program - win coupon and recycled napkin
UID:27935
END:VEVENT
BEGIN:VEVENT
DTSTAMP;TZID=Asia/Hong_Kong:20260420T220253
DTSTART;TZID=Asia/Hong_Kong:20210701T090000
DTEND;TZID=Asia/Hong_Kong:20210701T235500
LOCATION:HKUST campus 
SUMMARY:Beverage Carton Recycling Program - win coupon and recycled napkin
UID:27935
END:VEVENT
BEGIN:VEVENT
DTSTAMP;TZID=Asia/Hong_Kong:20260420T220253
DTSTART;TZID=Asia/Hong_Kong:20210702T090000
DTEND;TZID=Asia/Hong_Kong:20210702T235500
LOCATION:HKUST campus 
SUMMARY:Beverage Carton Recycling Program - win coupon and recycled napkin
UID:27935
END:VEVENT
BEGIN:VEVENT
DTSTAMP;TZID=Asia/Hong_Kong:20260420T220253
DTSTART;TZID=Asia/Hong_Kong:20210703T090000
DTEND;TZID=Asia/Hong_Kong:20210703T235500
LOCATION:HKUST campus 
SUMMARY:Beverage Carton Recycling Program - win coupon and recycled napkin
UID:27935
END:VEVENT
BEGIN:VEVENT
DTSTAMP;TZID=Asia/Hong_Kong:20260420T220253
DTSTART;TZID=Asia/Hong_Kong:20210704T090000
DTEND;TZID=Asia/Hong_Kong:20210704T235500
LOCATION:HKUST campus 
SUMMARY:Beverage Carton Recycling Program - win coupon and recycled napkin
UID:27935
END:VEVENT
BEGIN:VEVENT
DTSTAMP;TZID=Asia/Hong_Kong:20260420T220253
DTSTART;TZID=Asia/Hong_Kong:20210705T090000
DTEND;TZID=Asia/Hong_Kong:20210705T235500
LOCATION:HKUST campus 
SUMMARY:Beverage Carton Recycling Program - win coupon and recycled napkin
UID:27935
END:VEVENT
BEGIN:VEVENT
DTSTAMP;TZID=Asia/Hong_Kong:20260420T220253
DTSTART;TZID=Asia/Hong_Kong:20210706T090000
DTEND;TZID=Asia/Hong_Kong:20210706T235500
LOCATION:HKUST campus 
SUMMARY:Beverage Carton Recycling Program - win coupon and recycled napkin
UID:27935
END:VEVENT
BEGIN:VEVENT
DTSTAMP;TZID=Asia/Hong_Kong:20260420T220253
DTSTART;TZID=Asia/Hong_Kong:20210707T090000
DTEND;TZID=Asia/Hong_Kong:20210707T235500
LOCATION:HKUST campus 
SUMMARY:Beverage Carton Recycling Program - win coupon and recycled napkin
UID:27935
END:VEVENT
BEGIN:VEVENT
DTSTAMP;TZID=Asia/Hong_Kong:20260420T220253
DTSTART;TZID=Asia/Hong_Kong:20210708T090000
DTEND;TZID=Asia/Hong_Kong:20210708T235500
LOCATION:HKUST campus 
SUMMARY:Beverage Carton Recycling Program - win coupon and recycled napkin
UID:27935
END:VEVENT
BEGIN:VEVENT
DTSTAMP;TZID=Asia/Hong_Kong:20260420T220253
DTSTART;TZID=Asia/Hong_Kong:20210709T090000
DTEND;TZID=Asia/Hong_Kong:20210709T235500
LOCATION:HKUST campus 
SUMMARY:Beverage Carton Recycling Program - win coupon and recycled napkin
UID:27935
END:VEVENT
BEGIN:VEVENT
DTSTAMP;TZID=Asia/Hong_Kong:20260420T220253
DTSTART;TZID=Asia/Hong_Kong:20210710T090000
DTEND;TZID=Asia/Hong_Kong:20210710T235500
LOCATION:HKUST campus 
SUMMARY:Beverage Carton Recycling Program - win coupon and recycled napkin
UID:27935
END:VEVENT
BEGIN:VEVENT
DTSTAMP;TZID=Asia/Hong_Kong:20260420T220253
DTSTART;TZID=Asia/Hong_Kong:20210711T090000
DTEND;TZID=Asia/Hong_Kong:20210711T235500
LOCATION:HKUST campus 
SUMMARY:Beverage Carton Recycling Program - win coupon and recycled napkin
UID:27935
END:VEVENT
BEGIN:VEVENT
DTSTAMP;TZID=Asia/Hong_Kong:20260420T220253
DTSTART;TZID=Asia/Hong_Kong:20210712T090000
DTEND;TZID=Asia/Hong_Kong:20210712T235500
LOCATION:HKUST campus 
SUMMARY:Beverage Carton Recycling Program - win coupon and recycled napkin
UID:27935
END:VEVENT
BEGIN:VEVENT
DTSTAMP;TZID=Asia/Hong_Kong:20260420T220253
DTSTART;TZID=Asia/Hong_Kong:20210713T090000
DTEND;TZID=Asia/Hong_Kong:20210713T235500
LOCATION:HKUST campus 
SUMMARY:Beverage Carton Recycling Program - win coupon and recycled napkin
UID:27935
END:VEVENT
BEGIN:VEVENT
DTSTAMP;TZID=Asia/Hong_Kong:20260420T220253
DTSTART;TZID=Asia/Hong_Kong:20210714T090000
DTEND;TZID=Asia/Hong_Kong:20210714T235500
LOCATION:HKUST campus 
SUMMARY:Beverage Carton Recycling Program - win coupon and recycled napkin
UID:27935
END:VEVENT
BEGIN:VEVENT
DTSTAMP;TZID=Asia/Hong_Kong:20260420T220253
DTSTART;TZID=Asia/Hong_Kong:20210715T090000
DTEND;TZID=Asia/Hong_Kong:20210715T235500
LOCATION:HKUST campus 
SUMMARY:Beverage Carton Recycling Program - win coupon and recycled napkin
UID:27935
END:VEVENT
BEGIN:VEVENT
DTSTAMP;TZID=Asia/Hong_Kong:20260420T220253
DTSTART;TZID=Asia/Hong_Kong:20210716T090000
DTEND;TZID=Asia/Hong_Kong:20210716T235500
LOCATION:HKUST campus 
SUMMARY:Beverage Carton Recycling Program - win coupon and recycled napkin
UID:27935
END:VEVENT
BEGIN:VEVENT
DTSTAMP;TZID=Asia/Hong_Kong:20260420T220253
DTSTART;TZID=Asia/Hong_Kong:20210717T090000
DTEND;TZID=Asia/Hong_Kong:20210717T235500
LOCATION:HKUST campus 
SUMMARY:Beverage Carton Recycling Program - win coupon and recycled napkin
UID:27935
END:VEVENT
BEGIN:VEVENT
DTSTAMP;TZID=Asia/Hong_Kong:20260420T220253
DTSTART;TZID=Asia/Hong_Kong:20210718T090000
DTEND;TZID=Asia/Hong_Kong:20210718T235500
LOCATION:HKUST campus 
SUMMARY:Beverage Carton Recycling Program - win coupon and recycled napkin
UID:27935
END:VEVENT
BEGIN:VEVENT
DTSTAMP;TZID=Asia/Hong_Kong:20260420T220253
DTSTART;TZID=Asia/Hong_Kong:20210719T090000
DTEND;TZID=Asia/Hong_Kong:20210719T235500
LOCATION:HKUST campus 
SUMMARY:Beverage Carton Recycling Program - win coupon and recycled napkin
UID:27935
END:VEVENT
BEGIN:VEVENT
DTSTAMP;TZID=Asia/Hong_Kong:20260420T220253
DTSTART;TZID=Asia/Hong_Kong:20210720T090000
DTEND;TZID=Asia/Hong_Kong:20210720T235500
LOCATION:HKUST campus 
SUMMARY:Beverage Carton Recycling Program - win coupon and recycled napkin
UID:27935
END:VEVENT
BEGIN:VEVENT
DTSTAMP;TZID=Asia/Hong_Kong:20260420T220253
DTSTART;TZID=Asia/Hong_Kong:20210721T090000
DTEND;TZID=Asia/Hong_Kong:20210721T235500
LOCATION:HKUST campus 
SUMMARY:Beverage Carton Recycling Program - win coupon and recycled napkin
UID:27935
END:VEVENT
BEGIN:VEVENT
DTSTAMP;TZID=Asia/Hong_Kong:20260420T220253
DTSTART;TZID=Asia/Hong_Kong:20210722T090000
DTEND;TZID=Asia/Hong_Kong:20210722T235500
LOCATION:HKUST campus 
SUMMARY:Beverage Carton Recycling Program - win coupon and recycled napkin
UID:27935
END:VEVENT
BEGIN:VEVENT
DTSTAMP;TZID=Asia/Hong_Kong:20260420T220253
DTSTART;TZID=Asia/Hong_Kong:20210723T090000
DTEND;TZID=Asia/Hong_Kong:20210723T235500
LOCATION:HKUST campus 
SUMMARY:Beverage Carton Recycling Program - win coupon and recycled napkin
UID:27935
END:VEVENT
BEGIN:VEVENT
DTSTAMP;TZID=Asia/Hong_Kong:20260420T220253
DTSTART;TZID=Asia/Hong_Kong:20210724T090000
DTEND;TZID=Asia/Hong_Kong:20210724T235500
LOCATION:HKUST campus 
SUMMARY:Beverage Carton Recycling Program - win coupon and recycled napkin
UID:27935
END:VEVENT
BEGIN:VEVENT
DTSTAMP;TZID=Asia/Hong_Kong:20260420T220253
DTSTART;TZID=Asia/Hong_Kong:20210725T090000
DTEND;TZID=Asia/Hong_Kong:20210725T235500
LOCATION:HKUST campus 
SUMMARY:Beverage Carton Recycling Program - win coupon and recycled napkin
UID:27935
END:VEVENT
BEGIN:VEVENT
DTSTAMP;TZID=Asia/Hong_Kong:20260420T220253
DTSTART;TZID=Asia/Hong_Kong:20210726T090000
DTEND;TZID=Asia/Hong_Kong:20210726T235500
LOCATION:HKUST campus 
SUMMARY:Beverage Carton Recycling Program - win coupon and recycled napkin
UID:27935
END:VEVENT
BEGIN:VEVENT
DTSTAMP;TZID=Asia/Hong_Kong:20260420T220253
DTSTART;TZID=Asia/Hong_Kong:20210727T090000
DTEND;TZID=Asia/Hong_Kong:20210727T235500
LOCATION:HKUST campus 
SUMMARY:Beverage Carton Recycling Program - win coupon and recycled napkin
UID:27935
END:VEVENT
BEGIN:VEVENT
DTSTAMP;TZID=Asia/Hong_Kong:20260420T220253
DTSTART;TZID=Asia/Hong_Kong:20210728T090000
DTEND;TZID=Asia/Hong_Kong:20210728T235500
LOCATION:HKUST campus 
SUMMARY:Beverage Carton Recycling Program - win coupon and recycled napkin
UID:27935
END:VEVENT
BEGIN:VEVENT
DTSTAMP;TZID=Asia/Hong_Kong:20260420T220253
DTSTART;TZID=Asia/Hong_Kong:20210729T090000
DTEND;TZID=Asia/Hong_Kong:20210729T235500
LOCATION:HKUST campus 
SUMMARY:Beverage Carton Recycling Program - win coupon and recycled napkin
UID:27935
END:VEVENT
BEGIN:VEVENT
DTSTAMP;TZID=Asia/Hong_Kong:20260420T220253
DTSTART;TZID=Asia/Hong_Kong:20210730T090000
DTEND;TZID=Asia/Hong_Kong:20210730T235500
LOCATION:HKUST campus 
SUMMARY:Beverage Carton Recycling Program - win coupon and recycled napkin
UID:27935
END:VEVENT
BEGIN:VEVENT
DTSTAMP;TZID=Asia/Hong_Kong:20260420T220253
DTSTART;TZID=Asia/Hong_Kong:20210731T090000
DTEND;TZID=Asia/Hong_Kong:20210731T235500
LOCATION:HKUST campus 
SUMMARY:Beverage Carton Recycling Program - win coupon and recycled napkin
UID:27935
END:VEVENT
END:VCALENDAR