BEGIN:VCALENDAR
PRODID:-//HKUST Drupal Platform//EN
VERSION:2.0
BEGIN:VTIMEZONE
TZID:Asia/Hong_Kong
BEGIN:STANDARD
DTSTART:20071104T020000
TZOFFSETFROM:+0700
TZOFFSETTO:+0800
TZNAME:HKT
END:STANDARD
END:VTIMEZONE
BEGIN:VEVENT
DTSTAMP;TZID=Asia/Hong_Kong:20260420T222004
DTSTART;TZID=Asia/Hong_Kong:20210506T090000
DTEND;TZID=Asia/Hong_Kong:20210506T103000
LOCATION:Online
SUMMARY:CHEM Seminar - Can Artificial Intelligence Help Understand and Predict Molecular Dynamics?
UID:27923
END:VEVENT
END:VCALENDAR