BEGIN:VCALENDAR
PRODID:-//HKUST Drupal Platform//EN
VERSION:2.0
BEGIN:VTIMEZONE
TZID:Asia/Hong_Kong
BEGIN:STANDARD
DTSTART:20071104T020000
TZOFFSETFROM:+0700
TZOFFSETTO:+0800
TZNAME:HKT
END:STANDARD
END:VTIMEZONE
BEGIN:VEVENT
DTSTAMP;TZID=Asia/Hong_Kong:20260420T194002
DTSTART;TZID=Asia/Hong_Kong:20210429T093000
DTEND;TZID=Asia/Hong_Kong:20210429T103000
LOCATION:Online
SUMMARY:CHEM - PhD Student Seminar - Design, Characterization and Applications of Persistent Organic Radicals
UID:27920
END:VEVENT
END:VCALENDAR