BEGIN:VCALENDAR
PRODID:-//HKUST Drupal Platform//EN
VERSION:2.0
BEGIN:VTIMEZONE
TZID:Asia/Hong_Kong
BEGIN:STANDARD
DTSTART:20071104T020000
TZOFFSETFROM:+0700
TZOFFSETTO:+0800
TZNAME:HKT
END:STANDARD
END:VTIMEZONE
BEGIN:VEVENT
DTSTAMP;TZID=Asia/Hong_Kong:20260420T152258
DTSTART;TZID=Asia/Hong_Kong:20210415T000000
DTEND;TZID=Asia/Hong_Kong:20210415T234500
LOCATION:Online
SUMMARY:HKUST Arts Festival 2021 - Art, Despite the Pandemic - Concert VI - The Splendours of Italian and German Baroque Music by Concerto da Camera
UID:27871
END:VEVENT
BEGIN:VEVENT
DTSTAMP;TZID=Asia/Hong_Kong:20260420T152258
DTSTART;TZID=Asia/Hong_Kong:20210416T000000
DTEND;TZID=Asia/Hong_Kong:20210416T234500
LOCATION:Online
SUMMARY:HKUST Arts Festival 2021 - Art, Despite the Pandemic - Concert VI - The Splendours of Italian and German Baroque Music by Concerto da Camera
UID:27871
END:VEVENT
BEGIN:VEVENT
DTSTAMP;TZID=Asia/Hong_Kong:20260420T152258
DTSTART;TZID=Asia/Hong_Kong:20210417T000000
DTEND;TZID=Asia/Hong_Kong:20210417T234500
LOCATION:Online
SUMMARY:HKUST Arts Festival 2021 - Art, Despite the Pandemic - Concert VI - The Splendours of Italian and German Baroque Music by Concerto da Camera
UID:27871
END:VEVENT
BEGIN:VEVENT
DTSTAMP;TZID=Asia/Hong_Kong:20260420T152258
DTSTART;TZID=Asia/Hong_Kong:20210418T000000
DTEND;TZID=Asia/Hong_Kong:20210418T234500
LOCATION:Online
SUMMARY:HKUST Arts Festival 2021 - Art, Despite the Pandemic - Concert VI - The Splendours of Italian and German Baroque Music by Concerto da Camera
UID:27871
END:VEVENT
BEGIN:VEVENT
DTSTAMP;TZID=Asia/Hong_Kong:20260420T152258
DTSTART;TZID=Asia/Hong_Kong:20210419T000000
DTEND;TZID=Asia/Hong_Kong:20210419T234500
LOCATION:Online
SUMMARY:HKUST Arts Festival 2021 - Art, Despite the Pandemic - Concert VI - The Splendours of Italian and German Baroque Music by Concerto da Camera
UID:27871
END:VEVENT
BEGIN:VEVENT
DTSTAMP;TZID=Asia/Hong_Kong:20260420T152258
DTSTART;TZID=Asia/Hong_Kong:20210420T000000
DTEND;TZID=Asia/Hong_Kong:20210420T234500
LOCATION:Online
SUMMARY:HKUST Arts Festival 2021 - Art, Despite the Pandemic - Concert VI - The Splendours of Italian and German Baroque Music by Concerto da Camera
UID:27871
END:VEVENT
BEGIN:VEVENT
DTSTAMP;TZID=Asia/Hong_Kong:20260420T152258
DTSTART;TZID=Asia/Hong_Kong:20210421T000000
DTEND;TZID=Asia/Hong_Kong:20210421T234500
LOCATION:Online
SUMMARY:HKUST Arts Festival 2021 - Art, Despite the Pandemic - Concert VI - The Splendours of Italian and German Baroque Music by Concerto da Camera
UID:27871
END:VEVENT
END:VCALENDAR