BEGIN:VCALENDAR
PRODID:-//HKUST Drupal Platform//EN
VERSION:2.0
BEGIN:VTIMEZONE
TZID:Asia/Hong_Kong
BEGIN:STANDARD
DTSTART:20071104T020000
TZOFFSETFROM:+0700
TZOFFSETTO:+0800
TZNAME:HKT
END:STANDARD
END:VTIMEZONE
BEGIN:VEVENT
DTSTAMP;TZID=Asia/Hong_Kong:20260420T152301
DTSTART;TZID=Asia/Hong_Kong:20210401T000000
DTEND;TZID=Asia/Hong_Kong:20210401T234500
LOCATION:Online
SUMMARY:HKUST Arts Festival 2021 - Art, Despite the Pandemic - Concert IV - The Splendours of Italian and German Baroque Music by Concerto da Camera
UID:27778
END:VEVENT
BEGIN:VEVENT
DTSTAMP;TZID=Asia/Hong_Kong:20260420T152301
DTSTART;TZID=Asia/Hong_Kong:20210402T000000
DTEND;TZID=Asia/Hong_Kong:20210402T234500
LOCATION:Online
SUMMARY:HKUST Arts Festival 2021 - Art, Despite the Pandemic - Concert IV - The Splendours of Italian and German Baroque Music by Concerto da Camera
UID:27778
END:VEVENT
BEGIN:VEVENT
DTSTAMP;TZID=Asia/Hong_Kong:20260420T152301
DTSTART;TZID=Asia/Hong_Kong:20210403T000000
DTEND;TZID=Asia/Hong_Kong:20210403T234500
LOCATION:Online
SUMMARY:HKUST Arts Festival 2021 - Art, Despite the Pandemic - Concert IV - The Splendours of Italian and German Baroque Music by Concerto da Camera
UID:27778
END:VEVENT
BEGIN:VEVENT
DTSTAMP;TZID=Asia/Hong_Kong:20260420T152301
DTSTART;TZID=Asia/Hong_Kong:20210404T000000
DTEND;TZID=Asia/Hong_Kong:20210404T234500
LOCATION:Online
SUMMARY:HKUST Arts Festival 2021 - Art, Despite the Pandemic - Concert IV - The Splendours of Italian and German Baroque Music by Concerto da Camera
UID:27778
END:VEVENT
BEGIN:VEVENT
DTSTAMP;TZID=Asia/Hong_Kong:20260420T152301
DTSTART;TZID=Asia/Hong_Kong:20210405T000000
DTEND;TZID=Asia/Hong_Kong:20210405T234500
LOCATION:Online
SUMMARY:HKUST Arts Festival 2021 - Art, Despite the Pandemic - Concert IV - The Splendours of Italian and German Baroque Music by Concerto da Camera
UID:27778
END:VEVENT
BEGIN:VEVENT
DTSTAMP;TZID=Asia/Hong_Kong:20260420T152301
DTSTART;TZID=Asia/Hong_Kong:20210406T000000
DTEND;TZID=Asia/Hong_Kong:20210406T234500
LOCATION:Online
SUMMARY:HKUST Arts Festival 2021 - Art, Despite the Pandemic - Concert IV - The Splendours of Italian and German Baroque Music by Concerto da Camera
UID:27778
END:VEVENT
BEGIN:VEVENT
DTSTAMP;TZID=Asia/Hong_Kong:20260420T152301
DTSTART;TZID=Asia/Hong_Kong:20210407T000000
DTEND;TZID=Asia/Hong_Kong:20210407T234500
LOCATION:Online
SUMMARY:HKUST Arts Festival 2021 - Art, Despite the Pandemic - Concert IV - The Splendours of Italian and German Baroque Music by Concerto da Camera
UID:27778
END:VEVENT
END:VCALENDAR