BEGIN:VCALENDAR
PRODID:-//HKUST Drupal Platform//EN
VERSION:2.0
BEGIN:VTIMEZONE
TZID:Asia/Hong_Kong
BEGIN:STANDARD
DTSTART:20071104T020000
TZOFFSETFROM:+0700
TZOFFSETTO:+0800
TZNAME:HKT
END:STANDARD
END:VTIMEZONE
BEGIN:VEVENT
DTSTAMP;TZID=Asia/Hong_Kong:20260420T180847
DTSTART;TZID=Asia/Hong_Kong:20210414T193000
DTEND;TZID=Asia/Hong_Kong:20210414T210000
LOCATION:Tsang Shiu Tim Art Hall, Hong Kong University of Science and Technology, Hong Kong
SUMMARY:HKUST Arts Festival 2021 - Art, Despite the Pandemic - Lovers\' Complaint: a Musical Tour Through Central Asia, Caucasus and the Middle East by Nur Collective
UID:27743
END:VEVENT
END:VCALENDAR