BEGIN:VCALENDAR
PRODID:-//HKUST Drupal Platform//EN
VERSION:2.0
BEGIN:VTIMEZONE
TZID:Asia/Hong_Kong
BEGIN:STANDARD
DTSTART:20071104T020000
TZOFFSETFROM:+0700
TZOFFSETTO:+0800
TZNAME:HKT
END:STANDARD
END:VTIMEZONE
BEGIN:VEVENT
DTSTAMP;TZID=Asia/Hong_Kong:20260420T165626
DTSTART;TZID=Asia/Hong_Kong:20210414T130000
DTEND;TZID=Asia/Hong_Kong:20210414T140000
LOCATION:Tsang Shiu Tim Art Hall, Hong Kong University of Science and Technology, Hong Kong
SUMMARY:HKUST Arts Festival 2021 - Art, Despite the Pandemic - Maqams, Rhythms and Instruments: an Interactive Workshop on Central Asian and Middle Eastern Music  中亞及中東音樂互動工作坊
UID:27742
END:VEVENT
END:VCALENDAR