BEGIN:VCALENDAR
PRODID:-//HKUST Drupal Platform//EN
VERSION:2.0
BEGIN:VTIMEZONE
TZID:Asia/Hong_Kong
BEGIN:STANDARD
DTSTART:20071104T020000
TZOFFSETFROM:+0700
TZOFFSETTO:+0800
TZNAME:HKT
END:STANDARD
END:VTIMEZONE
BEGIN:VEVENT
DTSTAMP;TZID=Asia/Hong_Kong:20260420T152211
DTSTART;TZID=Asia/Hong_Kong:20210324T153000
DTEND;TZID=Asia/Hong_Kong:20210324T163000
LOCATION:Online via Zoom
SUMMARY:「歐亞之間：中亞、高加索和中東的傳統音樂和服飾」 展覽開幕典禮   Opening Ceremony of “Between Europe and Asia: Traditional Music and Costumes from Central Asia, Caucasus and the Middle East”
UID:27700
END:VEVENT
END:VCALENDAR