BEGIN:VCALENDAR
PRODID:-//HKUST Drupal Platform//EN
VERSION:2.0
BEGIN:VTIMEZONE
TZID:Asia/Hong_Kong
BEGIN:STANDARD
DTSTART:20071104T020000
TZOFFSETFROM:+0700
TZOFFSETTO:+0800
TZNAME:HKT
END:STANDARD
END:VTIMEZONE
BEGIN:VEVENT
DTSTAMP;TZID=Asia/Hong_Kong:20260420T202038
DTSTART;TZID=Asia/Hong_Kong:20210316T100000
DTEND;TZID=Asia/Hong_Kong:20210316T110000
LOCATION:Registration URL: https://hkust.zoom.us/meeting/register/tJcscuqqrzgrE9C0OAwVs5MQXCoHh4UujcPX
SUMMARY:HKUST - ACE and EDSSC  - Flexible Inorganic Thin-film Devices and Their Application in Bioelectronics
UID:27678
END:VEVENT
END:VCALENDAR