BEGIN:VCALENDAR
PRODID:-//HKUST Drupal Platform//EN
VERSION:2.0
BEGIN:VTIMEZONE
TZID:Asia/Hong_Kong
BEGIN:STANDARD
DTSTART:20071104T020000
TZOFFSETFROM:+0700
TZOFFSETTO:+0800
TZNAME:HKT
END:STANDARD
END:VTIMEZONE
BEGIN:VEVENT
DTSTAMP;TZID=Asia/Hong_Kong:20260420T152210
DTSTART;TZID=Asia/Hong_Kong:20210311T000000
DTEND;TZID=Asia/Hong_Kong:20210311T234500
LOCATION:Online
SUMMARY:HKUST Arts Festival 2021 - Art, Despite the Pandemic - Concert I - The Splendours of Italian and German Baroque Music by Concerto da Camera
UID:27664
END:VEVENT
BEGIN:VEVENT
DTSTAMP;TZID=Asia/Hong_Kong:20260420T152210
DTSTART;TZID=Asia/Hong_Kong:20210312T000000
DTEND;TZID=Asia/Hong_Kong:20210312T234500
LOCATION:Online
SUMMARY:HKUST Arts Festival 2021 - Art, Despite the Pandemic - Concert I - The Splendours of Italian and German Baroque Music by Concerto da Camera
UID:27664
END:VEVENT
BEGIN:VEVENT
DTSTAMP;TZID=Asia/Hong_Kong:20260420T152210
DTSTART;TZID=Asia/Hong_Kong:20210313T000000
DTEND;TZID=Asia/Hong_Kong:20210313T234500
LOCATION:Online
SUMMARY:HKUST Arts Festival 2021 - Art, Despite the Pandemic - Concert I - The Splendours of Italian and German Baroque Music by Concerto da Camera
UID:27664
END:VEVENT
BEGIN:VEVENT
DTSTAMP;TZID=Asia/Hong_Kong:20260420T152210
DTSTART;TZID=Asia/Hong_Kong:20210314T000000
DTEND;TZID=Asia/Hong_Kong:20210314T234500
LOCATION:Online
SUMMARY:HKUST Arts Festival 2021 - Art, Despite the Pandemic - Concert I - The Splendours of Italian and German Baroque Music by Concerto da Camera
UID:27664
END:VEVENT
BEGIN:VEVENT
DTSTAMP;TZID=Asia/Hong_Kong:20260420T152210
DTSTART;TZID=Asia/Hong_Kong:20210315T000000
DTEND;TZID=Asia/Hong_Kong:20210315T234500
LOCATION:Online
SUMMARY:HKUST Arts Festival 2021 - Art, Despite the Pandemic - Concert I - The Splendours of Italian and German Baroque Music by Concerto da Camera
UID:27664
END:VEVENT
BEGIN:VEVENT
DTSTAMP;TZID=Asia/Hong_Kong:20260420T152210
DTSTART;TZID=Asia/Hong_Kong:20210316T000000
DTEND;TZID=Asia/Hong_Kong:20210316T234500
LOCATION:Online
SUMMARY:HKUST Arts Festival 2021 - Art, Despite the Pandemic - Concert I - The Splendours of Italian and German Baroque Music by Concerto da Camera
UID:27664
END:VEVENT
BEGIN:VEVENT
DTSTAMP;TZID=Asia/Hong_Kong:20260420T152210
DTSTART;TZID=Asia/Hong_Kong:20210317T000000
DTEND;TZID=Asia/Hong_Kong:20210317T234500
LOCATION:Online
SUMMARY:HKUST Arts Festival 2021 - Art, Despite the Pandemic - Concert I - The Splendours of Italian and German Baroque Music by Concerto da Camera
UID:27664
END:VEVENT
END:VCALENDAR