BEGIN:VCALENDAR
PRODID:-//HKUST Drupal Platform//EN
VERSION:2.0
BEGIN:VTIMEZONE
TZID:Asia/Hong_Kong
BEGIN:STANDARD
DTSTART:20071104T020000
TZOFFSETFROM:+0700
TZOFFSETTO:+0800
TZNAME:HKT
END:STANDARD
END:VTIMEZONE
BEGIN:VEVENT
DTSTAMP;TZID=Asia/Hong_Kong:20260420T192632
DTSTART;TZID=Asia/Hong_Kong:20210315T183000
DTEND;TZID=Asia/Hong_Kong:20210315T203000
LOCATION:Online Via Zoom 
SUMMARY:UNIfy: Sustainable Living # NewNormal Edition     - Food and Sustainability from the Lens of Hong Kong Food Production   
UID:27563
END:VEVENT
END:VCALENDAR