BEGIN:VCALENDAR
PRODID:-//HKUST Drupal Platform//EN
VERSION:2.0
BEGIN:VTIMEZONE
TZID:Asia/Hong_Kong
BEGIN:STANDARD
DTSTART:20071104T020000
TZOFFSETFROM:+0700
TZOFFSETTO:+0800
TZNAME:HKT
END:STANDARD
END:VTIMEZONE
BEGIN:VEVENT
DTSTAMP;TZID=Asia/Hong_Kong:20260420T150541
DTSTART;TZID=Asia/Hong_Kong:20201201T170000
DTEND;TZID=Asia/Hong_Kong:20201201T183000
LOCATION:online Webinar
SUMMARY:CAiRE Webinar  - How to be a Global AI Entrepreneur: Lessons from China, US, and the EU
UID:27217
END:VEVENT
END:VCALENDAR