BEGIN:VCALENDAR
PRODID:-//HKUST Drupal Platform//EN
VERSION:2.0
BEGIN:VTIMEZONE
TZID:Asia/Hong_Kong
BEGIN:STANDARD
DTSTART:20071104T020000
TZOFFSETFROM:+0700
TZOFFSETTO:+0800
TZNAME:HKT
END:STANDARD
END:VTIMEZONE
BEGIN:VEVENT
DTSTAMP;TZID=Asia/Hong_Kong:20260420T221226
DTSTART;TZID=Asia/Hong_Kong:20201130T180000
DTEND;TZID=Asia/Hong_Kong:20201130T190000
LOCATION:Zoom (Zoom details will be shared to registered participants)
SUMMARY:Online Sharing: FinTech Career Opportunities and Market Trend for Banking and Finance
UID:27202
END:VEVENT
END:VCALENDAR