BEGIN:VCALENDAR
PRODID:-//HKUST Drupal Platform//EN
VERSION:2.0
BEGIN:VTIMEZONE
TZID:Asia/Hong_Kong
BEGIN:STANDARD
DTSTART:20071104T020000
TZOFFSETFROM:+0700
TZOFFSETTO:+0800
TZNAME:HKT
END:STANDARD
END:VTIMEZONE
BEGIN:VEVENT
DTSTAMP;TZID=Asia/Hong_Kong:20260420T180837
DTSTART;TZID=Asia/Hong_Kong:20201111T000000
DTEND;TZID=Asia/Hong_Kong:20201111T234500
LOCATION:Online
SUMMARY:Tips For Music Appreciation - Episode 1 Medieval - The Dark Ages
UID:27122
END:VEVENT
BEGIN:VEVENT
DTSTAMP;TZID=Asia/Hong_Kong:20260420T180837
DTSTART;TZID=Asia/Hong_Kong:20201112T000000
DTEND;TZID=Asia/Hong_Kong:20201112T234500
LOCATION:Online
SUMMARY:Tips For Music Appreciation - Episode 1 Medieval - The Dark Ages
UID:27122
END:VEVENT
BEGIN:VEVENT
DTSTAMP;TZID=Asia/Hong_Kong:20260420T180837
DTSTART;TZID=Asia/Hong_Kong:20201113T000000
DTEND;TZID=Asia/Hong_Kong:20201113T234500
LOCATION:Online
SUMMARY:Tips For Music Appreciation - Episode 1 Medieval - The Dark Ages
UID:27122
END:VEVENT
BEGIN:VEVENT
DTSTAMP;TZID=Asia/Hong_Kong:20260420T180837
DTSTART;TZID=Asia/Hong_Kong:20201114T000000
DTEND;TZID=Asia/Hong_Kong:20201114T234500
LOCATION:Online
SUMMARY:Tips For Music Appreciation - Episode 1 Medieval - The Dark Ages
UID:27122
END:VEVENT
BEGIN:VEVENT
DTSTAMP;TZID=Asia/Hong_Kong:20260420T180837
DTSTART;TZID=Asia/Hong_Kong:20201115T000000
DTEND;TZID=Asia/Hong_Kong:20201115T234500
LOCATION:Online
SUMMARY:Tips For Music Appreciation - Episode 1 Medieval - The Dark Ages
UID:27122
END:VEVENT
BEGIN:VEVENT
DTSTAMP;TZID=Asia/Hong_Kong:20260420T180837
DTSTART;TZID=Asia/Hong_Kong:20201116T000000
DTEND;TZID=Asia/Hong_Kong:20201116T234500
LOCATION:Online
SUMMARY:Tips For Music Appreciation - Episode 1 Medieval - The Dark Ages
UID:27122
END:VEVENT
BEGIN:VEVENT
DTSTAMP;TZID=Asia/Hong_Kong:20260420T180837
DTSTART;TZID=Asia/Hong_Kong:20201117T000000
DTEND;TZID=Asia/Hong_Kong:20201117T234500
LOCATION:Online
SUMMARY:Tips For Music Appreciation - Episode 1 Medieval - The Dark Ages
UID:27122
END:VEVENT
END:VCALENDAR