BEGIN:VCALENDAR
PRODID:-//HKUST Drupal Platform//EN
VERSION:2.0
BEGIN:VTIMEZONE
TZID:Asia/Hong_Kong
BEGIN:STANDARD
DTSTART:20071104T020000
TZOFFSETFROM:+0700
TZOFFSETTO:+0800
TZNAME:HKT
END:STANDARD
END:VTIMEZONE
BEGIN:VEVENT
DTSTAMP;TZID=Asia/Hong_Kong:20260420T150542
DTSTART;TZID=Asia/Hong_Kong:20201028T103000
DTEND;TZID=Asia/Hong_Kong:20201028T123000
LOCATION:Rm 6581 (Lift 27-28)
SUMMARY:Pathways to a Sustainable Smart Campus: New Funding and Collaboration Opportunities 
UID:26840
END:VEVENT
END:VCALENDAR