BEGIN:VCALENDAR
PRODID:-//HKUST Drupal Platform//EN
VERSION:2.0
BEGIN:VTIMEZONE
TZID:Asia/Hong_Kong
BEGIN:STANDARD
DTSTART:20071104T020000
TZOFFSETFROM:+0700
TZOFFSETTO:+0800
TZNAME:HKT
END:STANDARD
END:VTIMEZONE
BEGIN:VEVENT
DTSTAMP;TZID=Asia/Hong_Kong:20260420T142925
DTSTART;TZID=Asia/Hong_Kong:20170111T143000
DTEND;TZID=Asia/Hong_Kong:20170111T173000
LOCATION:Room 2463, 2/F  (Lifts 25/26) HKUST
SUMMARY:PhD in Chemistry - Structural and Mechanistic Investigation of the Domain Alternation Catalysis of an Adenylating Enzyme (MenE) in Vitamin K Biosynthesis
UID:26643
END:VEVENT
END:VCALENDAR